BEGIN:VCALENDAR
VERSION:2.0
PRODID:-//Delco Gaels GAC | Cumann Lúthchleas Gael - ECPv6.15.20//NONSGML v1.0//EN
CALSCALE:GREGORIAN
METHOD:PUBLISH
X-WR-CALNAME:Delco Gaels GAC | Cumann Lúthchleas Gael
X-ORIGINAL-URL:https://delcogaelsgaa.com
X-WR-CALDESC:Events for Delco Gaels GAC | Cumann Lúthchleas Gael
REFRESH-INTERVAL;VALUE=DURATION:PT1H
X-Robots-Tag:noindex
X-PUBLISHED-TTL:PT1H
BEGIN:VTIMEZONE
TZID:UTC
BEGIN:STANDARD
TZOFFSETFROM:+0000
TZOFFSETTO:+0000
TZNAME:UTC
DTSTART:20250101T000000
END:STANDARD
END:VTIMEZONE
BEGIN:VEVENT
DTSTART;VALUE=DATE:20260515
DTEND;VALUE=DATE:20260517
DTSTAMP:20260425T170607
CREATED:20251114T002336Z
LAST-MODIFIED:20251114T002336Z
UID:2577-1778803200-1778975999@delcogaelsgaa.com
SUMMARY:USGAA Minor Development Camp
DESCRIPTION:For boys and girls born in 2009 & 2010. More details coming soon!
URL:https://delcogaelsgaa.com/event/usgaa-minor-development-camp/
LOCATION:Limerick GAA Fields\, 945 Longview Road\, Pottstown\, PA\, 19464\, United States
CATEGORIES:Youth
END:VEVENT
END:VCALENDAR