BEGIN:VCALENDAR
VERSION:2.0
PRODID:-//Delco Gaels GAC | Cumann Lúthchleas Gael - ECPv6.15.20//NONSGML v1.0//EN
CALSCALE:GREGORIAN
METHOD:PUBLISH
X-WR-CALNAME:Delco Gaels GAC | Cumann Lúthchleas Gael
X-ORIGINAL-URL:https://delcogaelsgaa.com
X-WR-CALDESC:Events for Delco Gaels GAC | Cumann Lúthchleas Gael
REFRESH-INTERVAL;VALUE=DURATION:PT1H
X-Robots-Tag:noindex
X-PUBLISHED-TTL:PT1H
BEGIN:VTIMEZONE
TZID:UTC
BEGIN:STANDARD
TZOFFSETFROM:+0000
TZOFFSETTO:+0000
TZNAME:UTC
DTSTART:20250101T000000
END:STANDARD
END:VTIMEZONE
BEGIN:VEVENT
DTSTART;TZID=UTC:20260228T173000
DTEND;TZID=UTC:20260228T203000
DTSTAMP:20260426T032038
CREATED:20251114T001506Z
LAST-MODIFIED:20251114T001506Z
UID:2561-1772299800-1772310600@delcogaelsgaa.com
SUMMARY:Family Friendly Bingo & Beats
DESCRIPTION:More details coming soon!
URL:https://delcogaelsgaa.com/event/family-friendly-bingo-beats/
LOCATION:PA
CATEGORIES:Adult,Club Events,Youth
END:VEVENT
END:VCALENDAR