BEGIN:VCALENDAR
VERSION:2.0
PRODID:-//Delco Gaels GAC | Cumann Lúthchleas Gael - ECPv6.15.20//NONSGML v1.0//EN
CALSCALE:GREGORIAN
METHOD:PUBLISH
X-ORIGINAL-URL:https://delcogaelsgaa.com
X-WR-CALDESC:Events for Delco Gaels GAC | Cumann Lúthchleas Gael
REFRESH-INTERVAL;VALUE=DURATION:PT1H
X-Robots-Tag:noindex
X-PUBLISHED-TTL:PT1H
BEGIN:VTIMEZONE
TZID:UTC
BEGIN:STANDARD
TZOFFSETFROM:+0000
TZOFFSETTO:+0000
TZNAME:UTC
DTSTART:20250101T000000
END:STANDARD
END:VTIMEZONE
BEGIN:VEVENT
DTSTART;VALUE=DATE:20260328
DTEND;VALUE=DATE:20260329
DTSTAMP:20260426T003938
CREATED:20251114T001718Z
LAST-MODIFIED:20251114T001718Z
UID:2568-1774656000-1774742399@delcogaelsgaa.com
SUMMARY:Wilmington Blitz
DESCRIPTION:More details coming soon!
URL:https://delcogaelsgaa.com/event/wilmington-blitz/
LOCATION:Salesianum High School\, 1801 N Broom St\, Wilmington\, DE\, 19802\, United States
CATEGORIES:Tournaments
END:VEVENT
BEGIN:VEVENT
DTSTART;VALUE=DATE:20260403
DTEND;VALUE=DATE:20260404
DTSTAMP:20260426T003938
CREATED:20251114T001542Z
LAST-MODIFIED:20251114T001542Z
UID:2563-1775174400-1775260799@delcogaelsgaa.com
SUMMARY:Spring Break Camp
DESCRIPTION:More details coming soon!
URL:https://delcogaelsgaa.com/event/spring-break-camp/
LOCATION:PA
CATEGORIES:Youth
END:VEVENT
BEGIN:VEVENT
DTSTART;TZID=UTC:20260411T080000
DTEND;TZID=UTC:20260411T170000
DTSTAMP:20260426T003938
CREATED:20251114T001633Z
LAST-MODIFIED:20251114T001633Z
UID:2565-1775894400-1775926800@delcogaelsgaa.com
SUMMARY:USGAA Minor Tournament
DESCRIPTION:More details coming soon!
URL:https://delcogaelsgaa.com/event/usgaa-minor-tournament/
LOCATION:Boston\, MA
CATEGORIES:Tournaments,Youth
END:VEVENT
BEGIN:VEVENT
DTSTART;VALUE=DATE:20260515
DTEND;VALUE=DATE:20260517
DTSTAMP:20260426T003938
CREATED:20251114T002336Z
LAST-MODIFIED:20251114T002336Z
UID:2577-1778803200-1778975999@delcogaelsgaa.com
SUMMARY:USGAA Minor Development Camp
DESCRIPTION:For boys and girls born in 2009 & 2010. More details coming soon!
URL:https://delcogaelsgaa.com/event/usgaa-minor-development-camp/
LOCATION:Limerick GAA Fields\, 945 Longview Road\, Pottstown\, PA\, 19464\, United States
CATEGORIES:Youth
END:VEVENT
BEGIN:VEVENT
DTSTART;VALUE=DATE:20260711
DTEND;VALUE=DATE:20260713
DTSTAMP:20260426T003938
CREATED:20251114T001837Z
LAST-MODIFIED:20251114T001852Z
UID:2570-1783728000-1783900799@delcogaelsgaa.com
SUMMARY:2026 Liam Hegarty Liberty Bell Championship
DESCRIPTION:More details coming soon!
URL:https://delcogaelsgaa.com/event/2026-liam-hegarty-liberty-bell-championship/
LOCATION:Delaware
CATEGORIES:Tournaments
END:VEVENT
BEGIN:VEVENT
DTSTART;VALUE=DATE:20260717
DTEND;VALUE=DATE:20260719
DTSTAMP:20260426T003938
CREATED:20251114T002546Z
LAST-MODIFIED:20251114T002546Z
UID:2579-1784246400-1784419199@delcogaelsgaa.com
SUMMARY:USGAA Minor Development Camp
DESCRIPTION:For boys and girls born in 2009 & 2010. More details coming soon!
URL:https://delcogaelsgaa.com/event/usgaa-minor-development-camp-2/
LOCATION:Limerick GAA Fields\, 945 Longview Road\, Pottstown\, PA\, 19464\, United States
CATEGORIES:Youth
END:VEVENT
BEGIN:VEVENT
DTSTART;VALUE=DATE:20260730
DTEND;VALUE=DATE:20260803
DTSTAMP:20260426T003938
CREATED:20251114T001951Z
LAST-MODIFIED:20251114T002405Z
UID:2573-1785369600-1785715199@delcogaelsgaa.com
SUMMARY:Continental Youth Championships (CYCs)
DESCRIPTION:More details coming soon!
URL:https://delcogaelsgaa.com/event/continental-youth-championships-cycs/
LOCATION:Line Rd Sports Complex\, 137 Line Rd\, Malvern\, PA\, 19355\, United States
CATEGORIES:Tournaments,Youth
END:VEVENT
BEGIN:VEVENT
DTSTART;VALUE=DATE:20260814
DTEND;VALUE=DATE:20260817
DTSTAMP:20260426T003938
CREATED:20251114T002041Z
LAST-MODIFIED:20251114T002041Z
UID:2575-1786665600-1786924799@delcogaelsgaa.com
SUMMARY:North American Adult Finals
DESCRIPTION:More details coming soon!
URL:https://delcogaelsgaa.com/event/north-american-adult-finals/
LOCATION:Boston\, MA
CATEGORIES:Adult,Tournaments
END:VEVENT
END:VCALENDAR